BEGIN:VCALENDAR
VERSION:2.0
PRODID:-//ChamberMaster//Event Calendar 2.0//EN
METHOD:PUBLISH
X-PUBLISHED-TTL:P3D
REFRESH-INTERVAL:P3D
CALSCALE:GREGORIAN
BEGIN:VEVENT
DTSTART:20220714T210000Z
DTEND:20220714T230000Z
X-MICROSOFT-CDO-ALLDAYEVENT:FALSE
SUMMARY:Ribbon Cutting: Authentic Irish Tours Travel Agency
DESCRIPTION:Ribbon Cutting Event: Authentic Irish Tours Travel Agency
X-ALT-DESC;FMTTYPE=text/html:Ribbon Cutting Event: Authentic Irish Tours Travel Agency
LOCATION:2502 Beech Street Suite 40 Valparaiso\, IN 46383
UID:e.897.4515
SEQUENCE:3
DTSTAMP:20260424T211844Z
URL:https://members.crossroadschamber.org/events/details/ribbon-cutting-authentic-irish-tours-travel-agency-4515
END:VEVENT

END:VCALENDAR
