BEGIN:VCALENDAR
VERSION:2.0
PRODID:-//ChamberMaster//Event Calendar 2.0//EN
METHOD:PUBLISH
X-PUBLISHED-TTL:P3D
REFRESH-INTERVAL:P3D
CALSCALE:GREGORIAN
BEGIN:VEVENT
DTSTART:20240917T210000Z
DTEND:20240917T230000Z
X-MICROSOFT-CDO-ALLDAYEVENT:FALSE
SUMMARY:Ribbon Cutting for Monarch Health and Wellness
DESCRIPTION:We are excited to invite everyone to celebrate the added addition at Monarch Health and Wellness. Please join us at the Ribbon Cutting/Open house.\n\n \n\nOpen house will be held from 4p-6p\n\nRibbon Cutting will take place at 4:30p\n\n \n\nWe look forward to seeing everyone and appreciate your support of our Crossroads Chamber members\, and Northwest Indiana's business Community.
X-ALT-DESC;FMTTYPE=text/html:We are excited to invite everyone to celebrate the added addition at Monarch Health and Wellness. Please join us at the Ribbon Cutting/Open house.<br />\n&nbsp\;<br />\nOpen house will be held from 4p-6p<br />\nRibbon Cutting will take place at 4:30p<br />\n&nbsp\;<br />\nWe look forward to seeing everyone and appreciate your support of our Crossroads Chamber members\, and Northwest Indiana&rsquo\;s business Community.
LOCATION:503 E. Summit St Suite 3 Crown Point\, IN 46307
UID:e.897.6451
SEQUENCE:3
DTSTAMP:20260420T195759Z
URL:https://members.crossroadschamber.org/events/details/ribbon-cutting-for-monarch-health-and-wellness-6451
END:VEVENT

END:VCALENDAR
