BEGIN:VCALENDAR
VERSION:2.0
PRODID:-//ChamberMaster//Event Calendar 2.0//EN
METHOD:PUBLISH
X-PUBLISHED-TTL:P3D
REFRESH-INTERVAL:P3D
CALSCALE:GREGORIAN
BEGIN:VEVENT
DTSTART:20220614T213000Z
DTEND:20220614T233000Z
X-MICROSOFT-CDO-ALLDAYEVENT:FALSE
SUMMARY:Ribbon Cutting Methodist Physician Group Cardiovascular Office
DESCRIPTION:Methodist Hospitals and the Crossroads Chamber of Commerce cordially invite you to attend a ribbon cutting for the new Methodist Physician Group Cardiovascular office.
X-ALT-DESC;FMTTYPE=text/html:Methodist Hospitals and the Crossroads Chamber of Commerce cordially invite you to attend a ribbon cutting for the new Methodist Physician Group Cardiovascular office.&nbsp\;<br />\n&nbsp\;
LOCATION:Methodist Hospitals Southlake Campus - Pavilion B - Third Floor 200 East 89th Avenue Merrillville
UID:e.897.4505
SEQUENCE:3
DTSTAMP:20260424T210556Z
URL:https://members.crossroadschamber.org/events/details/ribbon-cutting-methodist-physician-group-cardiovascular-office-4505
END:VEVENT

END:VCALENDAR
