BEGIN:VCALENDAR
VERSION:2.0
PRODID:-//ChamberMaster//Event Calendar 2.0//EN
METHOD:PUBLISH
X-PUBLISHED-TTL:P3D
REFRESH-INTERVAL:P3D
CALSCALE:GREGORIAN
BEGIN:VEVENT
DTSTART:20210608T210000Z
DTEND:20210608T230000Z
X-MICROSOFT-CDO-ALLDAYEVENT:FALSE
SUMMARY:Ribbon Cutting / Open House at Avenue 912
DESCRIPTION:Ribbon Cutting / Open House\n\nRibbon Cutting will take place at 5pm\n\nBeer and wine will be provided.
X-ALT-DESC;FMTTYPE=text/html:Ribbon Cutting / Open House<br />\nRibbon Cutting will take place at 5pm<br />\nBeer and wine will be provided.
LOCATION:Avenue 912 Events Center 202 West Old Ridge Road Griffith\, IN 46319
UID:e.897.4399
SEQUENCE:3
DTSTAMP:20260425T191026Z
URL:https://members.crossroadschamber.org/events/details/ribbon-cutting-open-house-at-avenue-912-4399
END:VEVENT

END:VCALENDAR
