BEGIN:VCALENDAR
VERSION:2.0
PRODID:-//ChamberMaster//Event Calendar 2.0//EN
METHOD:PUBLISH
X-PUBLISHED-TTL:P3D
REFRESH-INTERVAL:P3D
CALSCALE:GREGORIAN
BEGIN:VEVENT
DTSTART:20210930T210000Z
DTEND:20210930T220000Z
X-MICROSOFT-CDO-ALLDAYEVENT:FALSE
SUMMARY:Ribbon Cutting / Open House at Boundless Retrieval
DESCRIPTION:Open House 4:00pm-5:00pm\n\nRibbon Cutting at 4:30pm\n\nLight refreshments and snacks will be served.
X-ALT-DESC;FMTTYPE=text/html:Open House 4:00pm-5:00pm<br />\nRibbon Cutting at 4:30pm<br />\nLight refreshments and snacks will be served.
LOCATION:Boundless Retrieval 1122 North Main Street\, Suite B Crown Point\, IN 46307
UID:e.897.4440
SEQUENCE:3
DTSTAMP:20260425T134307Z
URL:https://members.crossroadschamber.org/events/details/ribbon-cutting-open-house-at-boundless-retrieval-4440
END:VEVENT

END:VCALENDAR
