BEGIN:VCALENDAR
VERSION:2.0
PRODID:-//ChamberMaster//Event Calendar 2.0//EN
METHOD:PUBLISH
X-PUBLISHED-TTL:P3D
REFRESH-INTERVAL:P3D
CALSCALE:GREGORIAN
BEGIN:VEVENT
DTSTART:20210923T210000Z
DTEND:20210923T230000Z
X-MICROSOFT-CDO-ALLDAYEVENT:FALSE
SUMMARY:Ribbon Cutting / Open House at realSPACE
DESCRIPTION:Open House 4:00pm-6:00pm\n\nRibbon Cutting at 5:00pm\n\nAppetizers\, drinks\, and prizes!
X-ALT-DESC;FMTTYPE=text/html:Open House 4:00pm-6:00pm<br />\nRibbon Cutting at 5:00pm<br />\nAppetizers\, drinks\, and prizes!
LOCATION:realSPACE 5164 East 81st Avenue Merrillville\, IN 46410
UID:e.897.4439
SEQUENCE:3
DTSTAMP:20260425T134232Z
URL:https://members.crossroadschamber.org/events/details/ribbon-cutting-open-house-at-realspace-4439
END:VEVENT

END:VCALENDAR
