BEGIN:VCALENDAR
VERSION:2.0
PRODID:-//ChamberMaster//Event Calendar 2.0//EN
METHOD:PUBLISH
X-PUBLISHED-TTL:P3D
REFRESH-INTERVAL:P3D
CALSCALE:GREGORIAN
BEGIN:VEVENT
DTSTART:20210617T210000Z
DTEND:20210617T230000Z
X-MICROSOFT-CDO-ALLDAYEVENT:FALSE
SUMMARY:Ribbon Cutting / Open House ROCKaBLOCK
DESCRIPTION:Ribbon Cutting / Open House ROCKaBLOCK\n\nInspiring shirts for inspiring people\n\nRibbon Cutting at 5pm\n\nLight refreshments\n\n15% off in-store discount
X-ALT-DESC;FMTTYPE=text/html:Ribbon Cutting / Open House ROCKaBLOCK<br />\nInspiring shirts for inspiring people<br />\nRibbon Cutting at 5pm<br />\nLight refreshments<br />\n15% off in-store discount
LOCATION:ROCKaBLOCK 7880 Broadway\, Suite 81 West Merrillville\, IN 46410
UID:e.897.4401
SEQUENCE:3
DTSTAMP:20260425T190929Z
URL:https://members.crossroadschamber.org/events/details/ribbon-cutting-open-house-rockablock-4401
END:VEVENT

END:VCALENDAR
