BEGIN:VCALENDAR
VERSION:2.0
PRODID:-//ChamberMaster//Event Calendar 2.0//EN
METHOD:PUBLISH
X-PUBLISHED-TTL:P3D
REFRESH-INTERVAL:P3D
CALSCALE:GREGORIAN
BEGIN:VEVENT
DTSTART:20210610T200000Z
DTEND:20210610T230000Z
X-MICROSOFT-CDO-ALLDAYEVENT:FALSE
SUMMARY:Ribbon Cutting / Open House Superior Ambulance
DESCRIPTION:Superior Ground Ambulance Ribbon Cutting / Open House\n\nRefreshments and gourmet grilled cheese will be served.
X-ALT-DESC;FMTTYPE=text/html:Superior Ground Ambulance Ribbon Cutting / Open House<br />\nRefreshments and gourmet grilled cheese will be served.
LOCATION:Superior Ambulance Corporate Office 9835 Express Drive Highland\, IN 46322
UID:e.897.4400
SEQUENCE:3
DTSTAMP:20260425T191356Z
URL:https://members.crossroadschamber.org/events/details/ribbon-cutting-open-house-superior-ambulance-4400
END:VEVENT

END:VCALENDAR
