BEGIN:VCALENDAR
VERSION:2.0
PRODID:-//ChamberMaster//Event Calendar 2.0//EN
METHOD:PUBLISH
X-PUBLISHED-TTL:P3D
REFRESH-INTERVAL:P3D
CALSCALE:GREGORIAN
BEGIN:VEVENT
DTSTART:20220628T210000Z
DTEND:20220628T230000Z
X-MICROSOFT-CDO-ALLDAYEVENT:FALSE
SUMMARY:Ribbon Cutting/Re-Grand Opening Anytime Fitness Winfield
DESCRIPTION:Light Refreshments will be served.
X-ALT-DESC;FMTTYPE=text/html:Light Refreshments will be served.
LOCATION:7954 E. 108th Ave Winfield\, IN 46307
UID:e.897.4504
SEQUENCE:3
DTSTAMP:20260424T211138Z
URL:https://members.crossroadschamber.org/events/details/ribbon-cutting-re-grand-opening-anytime-fitness-winfield-4504
END:VEVENT

END:VCALENDAR
