BEGIN:VCALENDAR
VERSION:2.0
PRODID:-//ChamberMaster//Event Calendar 2.0//EN
METHOD:PUBLISH
X-PUBLISHED-TTL:P3D
REFRESH-INTERVAL:P3D
CALSCALE:GREGORIAN
BEGIN:VEVENT
DTSTART:20260410T160000Z
DTEND:20260410T183000Z
X-MICROSOFT-CDO-ALLDAYEVENT:FALSE
SUMMARY:Rosecrance Behavioral Health Ribbon Cutting and Open House
DESCRIPTION:You're Invited!\n\nJoin us as we welcome Rosecrance Behavioral Health with a Ribbon Cutting and Open House celebration!\n\n\n\n  Location: 14785 W. 101st Ave Ste 203 Dyer \n\n   Date: 4/10/2026\n\n  Open House: 11:00 AM   1:30 PM\n\n   Ribbon Cutting: 11:30 AM\n\n\n\nCome out to show your support for one of our newest Crossroads Chamber members and help us celebrate continued growth in Northwest Indiana's business community.\n\n\n\nWe look forward to seeing you there!
X-ALT-DESC;FMTTYPE=text/html:<span style="font-size:20px\;"><strong>You&#39\;re Invited!</strong><br />\nJoin us as we welcome Rosecrance Behavioral Health&nbsp\;with a Ribbon Cutting and Open House celebration!<br />\n<br />\n<span style="font-family:segoe ui emoji\,sans-serif\;">&#128205\;</span> <strong>Location:</strong>&nbsp\;14785 W. 101st Ave Ste 203 Dyer&nbsp\;<br />\n<span style="font-family:segoe ui emoji\,sans-serif\;">&#128467\;&#65039\;</span> <strong>Date:</strong>&nbsp\;4/10/2026<br />\n<span style="font-family:segoe ui emoji\,sans-serif\;">&#128347\;</span> <strong>Open House:</strong> 11:00 AM &ndash\; 1:30 PM<br />\n<span style="font-family:segoe ui emoji\,sans-serif\;">&#9986\;&#65039\;</span> <strong>Ribbon Cutting:</strong> 11:30 AM<br />\n<br />\nCome out to show your support for one of our newest <strong>Crossroads Chamber members</strong> and help us celebrate continued growth in <strong>Northwest Indiana&rsquo\;s business community</strong>.<br />\n<br />\nWe look forward to seeing you there!</span><br />\n&nbsp\;
LOCATION:14785 W. 101st Ave Ste 203 Dyer\, IN 46311
UID:e.897.7366
SEQUENCE:3
DTSTAMP:20260419T145007Z
URL:https://members.crossroadschamber.org/events/details/rosecrance-behavioral-health-ribbon-cutting-and-open-house-7366
END:VEVENT

END:VCALENDAR
