BEGIN:VCALENDAR
VERSION:2.0
PRODID:-//ChamberMaster//Event Calendar 2.0//EN
METHOD:PUBLISH
X-PUBLISHED-TTL:P3D
REFRESH-INTERVAL:P3D
CALSCALE:GREGORIAN
BEGIN:VEVENT
DTSTART:20240920T180000Z
DTEND:20240920T210000Z
X-MICROSOFT-CDO-ALLDAYEVENT:FALSE
SUMMARY:Rytech Restoration Grand Opening
DESCRIPTION:We are excited to invite everyone to welcome Rytech Restoration to Crown Point. Please join us at the Ribbon Cutting/ Open house.\n\n \n\nOpen house will be held from 12pm-4pm\n\nRibbon Cutting will take place at 1pm.\n\n \n\nWe look forward to seeing everyone and appreciate your support of our Crossroads Chamber members\, and Northwest Indiana's business Community.
X-ALT-DESC;FMTTYPE=text/html:We are excited to invite everyone to welcome Rytech Restoration to Crown Point. Please join us at the Ribbon Cutting/ Open house.<br />\n&nbsp\;<br />\nOpen house will be held from 12pm-4pm<br />\nRibbon Cutting will take place at 1pm.<br />\n&nbsp\;<br />\nWe look forward to seeing everyone and appreciate your support of our Crossroads Chamber members\, and Northwest Indiana&rsquo\;s business Community.<br />\n&nbsp\;
LOCATION:1122 Arrowhead Ct Crown Point\, IN
UID:e.897.6456
SEQUENCE:3
DTSTAMP:20260420T212447Z
URL:https://members.crossroadschamber.org/events/details/rytech-restoration-grand-opening-6456
END:VEVENT

END:VCALENDAR
