BEGIN:VCALENDAR
VERSION:2.0
PRODID:-//ChamberMaster//Event Calendar 2.0//EN
METHOD:PUBLISH
X-PUBLISHED-TTL:P3D
REFRESH-INTERVAL:P3D
CALSCALE:GREGORIAN
BEGIN:VEVENT
DTSTART:20240308T230000Z
DTEND:20240309T000000Z
X-MICROSOFT-CDO-ALLDAYEVENT:FALSE
SUMMARY:Sate of Mind Medical Aesthetics Launch and Ribbon Cutting Ceremony
DESCRIPTION:
X-ALT-DESC;FMTTYPE=text/html:
LOCATION:111 West 94th Pl Crown Point\, IN 46307
UID:e.897.6095
SEQUENCE:3
DTSTAMP:20260423T090305Z
URL:https://members.crossroadschamber.org/events/details/sate-of-mind-medical-aesthetics-launch-and-ribbon-cutting-ceremony-6095
END:VEVENT

END:VCALENDAR
