BEGIN:VCALENDAR
VERSION:2.0
PRODID:-//ChamberMaster//Event Calendar 2.0//EN
METHOD:PUBLISH
X-PUBLISHED-TTL:P3D
REFRESH-INTERVAL:P3D
CALSCALE:GREGORIAN
BEGIN:VEVENT
DTSTART:20220524T130000Z
DTEND:20220524T140000Z
X-MICROSOFT-CDO-ALLDAYEVENT:FALSE
SUMMARY:SCORE Workshop - Negotiating
DESCRIPTION:NEGOTIATING  aren't we now negotiating everything?\n\nNegotiating is 'a process' that we all engage in more than we recognize.\n\nSometimes it is for ourselves with\, and/or on behalf of our family\, more times it is for our business\, but we are involved in some kind of negotiations almost every day.\n\nThe objective is always to try "to reach an agreement" of some sort.\n\nSCORE's Jim Hubbard\, an experienced attorney and labor relations specialist with over 40 years of negotiating experience will share some key insights and approaches to first understanding the dynamics at work between the parties in a negotiation and then how to determine the best approach to use in getting to that "desired agreement".   Win-Win\; Win-Lose\; Lose-Lose are commonly thought of as the only outcomes options but are there more?\n\nAttendees will come away with some different ways to look at the interpersonal dynamics involved in "negotiating" and how to understand and operate within some of the key elements of this "process".\n\nRegister now by: May 20\, 2022
X-ALT-DESC;FMTTYPE=text/html:<strong><span style="font-size:14.0pt\;">NEGOTIATING&hellip\;</span></strong><span style="font-size:14.0pt\;"> <em>aren&rsquo\;t we now negotiating everything?</em></span><br />\nNegotiating is &lsquo\;a process&rsquo\; that we all engage in&hellip\;more than we recognize.<br />\nSometimes it is for ourselves with\, and/or on behalf of our family\, more times it is for our business\, but we are involved in some kind of negotiations almost every day.<br />\nThe objective is always to try &ldquo\;to reach an agreement&rdquo\; of some sort.<br />\nSCORE&rsquo\;s Jim Hubbard\, an experienced attorney and labor relations specialist with over 40 years of negotiating experience will share some key insights and approaches to first understanding the dynamics at work between the parties in a negotiation and then how to determine the best approach to use in getting to that &ldquo\;desired agreement&rdquo\;.&nbsp\;&nbsp\; Win-Win\; Win-Lose\; Lose-Lose are commonly thought of as the only outcomes options&hellip\;but are there more?<br />\nAttendees will come away with some different ways to look at the <u>interpersonal dynamics</u> involved in &ldquo\;negotiating&rdquo\; and how to understand and operate within some of the key elements of this &ldquo\;process&rdquo\;.<br />\nRegister now by: May 20\, 2022
LOCATION:Crossroads Regional Chamber of Commerce 440 West 84th Drive Merrillville\, IN 46410
UID:e.897.4497
SEQUENCE:3
DTSTAMP:20260424T225139Z
URL:https://members.crossroadschamber.org/events/details/score-workshop-negotiating-4497
END:VEVENT

END:VCALENDAR
