BEGIN:VCALENDAR
VERSION:2.0
PRODID:-//ChamberMaster//Event Calendar 2.0//EN
METHOD:PUBLISH
X-PUBLISHED-TTL:P3D
REFRESH-INTERVAL:P3D
CALSCALE:GREGORIAN
BEGIN:VEVENT
DTSTART:20220920T161500Z
DTEND:20220920T180000Z
X-MICROSOFT-CDO-ALLDAYEVENT:FALSE
SUMMARY:September 2022 Monthly Membership Luncheon
DESCRIPTION:David Uran\n\nPresident/CEO of the SSCVA
X-ALT-DESC;FMTTYPE=text/html:David Uran<br />\nPresident/CEO of the SSCVA
LOCATION:Avalon Manor 3550 E. Lincoln Highway Merrillville\, IN 46410
UID:e.897.4525
SEQUENCE:3
DTSTAMP:20260424T160711Z
URL:https://members.crossroadschamber.org/events/details/september-2022-monthly-membership-luncheon-4525
END:VEVENT

END:VCALENDAR
