BEGIN:VCALENDAR
VERSION:2.0
PRODID:-//ChamberMaster//Event Calendar 2.0//EN
METHOD:PUBLISH
X-PUBLISHED-TTL:P3D
REFRESH-INTERVAL:P3D
CALSCALE:GREGORIAN
BEGIN:VEVENT
DTSTART:20250916T161500Z
DTEND:20250916T180000Z
X-MICROSOFT-CDO-ALLDAYEVENT:FALSE
SUMMARY:September Monthly Membership Program
DESCRIPTION:Guest Speaker: \nMatt Wells\n\nPresident/CEO\, One Region\n\nChief Engagement Officer\, Purdue University Northwest\n\n\n\nYour registration includes a complimentary orchard admission and a free bag of apples\, courtesy of Fair Oaks.\n\n\n\n\n\nDon't forget to register for a Promotional "Get Promoted" Table $30 \n\nReceive a table with two chairs\, bring your promotional items for your business\, network with members and receive mic time during the program.\n\n\n\nTable Sponsorship Available for $400\n\nTable Sponsor includes eight lunch reservations\, a reserved table in front of the room with company name on table and recognition at the mic.
X-ALT-DESC;FMTTYPE=text/html:<p><strong style="font-size: 18px\;"><span style="background-image: initial\; background-position: initial\; background-size: initial\; background-repeat: initial\; background-attachment: initial\; background-origin: initial\; background-clip: initial\;"><span style="color: black\;">Guest Speaker:&nbsp\;</span></span></strong></p>\n<span style="font-size:24px\;"><strong><span style="background-image: initial\; background-position: initial\; background-size: initial\; background-repeat: initial\; background-attachment: initial\; background-origin: initial\; background-clip: initial\;"><span style="color: black\;">Matt Wells</span></span></strong><br />\nPresident/CEO\, One Region<br />\nChief Engagement Officer\, Purdue University Northwest</span><br />\n<br />\n<span style="box-sizing: border-box\; font-size: 18px\; font-family: Tahoma\, sans-serif\; color: rgb(33\, 28\, 28)\;">Your registration includes a&nbsp\;</span><span style="box-sizing: border-box\; font-weight: bolder\; outline: 0px\; color: rgb(102\, 102\, 102)\; font-family: Arial\, Helvetica\, sans-serif\; font-size: 18px\;"><span style="box-sizing: border-box\; outline: 0px\; font-family: Tahoma\, sans-serif\; color: rgb(37\, 141\, 35)\;">complimentary orchard admission</span></span><span style="box-sizing: border-box\; font-size: 18px\; font-family: Tahoma\, sans-serif\; color: rgb(33\, 28\, 28)\;">&nbsp\;and a free bag of apples\, courtesy of Fair Oaks.</span><br />\n<br />\n<br />\n<span style="font-family: arial\;"><span style="font-size: 16px\;">Don&#39\;t forget to register for a&nbsp\;<strong>Promotional &ldquo\;Get Promoted&rdquo\; Table $30&nbsp\;</strong><br />\nReceive a table with two chairs\, bring your promotional items for your business\, network with members and receive mic time during the program.</span></span><br />\n<br />\n<span style="font-size: 16px\;"><span style="font-family: arial\;"><strong>Table Sponsorship Available for $400</strong><br />\nTable Sponsor includes eight lunch reservations\, a reserved table in front of the room with company name on table and recognition at the mic.</span></span>
LOCATION:Fair Oaks Farms 856 N 600 E Fair Oaks\, IN 47943 Meeting will take place in the Farmhouse Restaurant Your registration includes a complimentary orchard admission and a free bag of apples\, courtesy of Fair Oaks.
UID:e.897.6577
SEQUENCE:3
DTSTAMP:20260420T011441Z
URL:https://members.crossroadschamber.org/events/details/september-monthly-membership-program-6577
END:VEVENT

END:VCALENDAR
