BEGIN:VCALENDAR
VERSION:2.0
PRODID:-//ChamberMaster//Event Calendar 2.0//EN
METHOD:PUBLISH
X-PUBLISHED-TTL:P3D
REFRESH-INTERVAL:P3D
CALSCALE:GREGORIAN
BEGIN:VEVENT
DTSTART:20250417T220000Z
DTEND:20250418T000000Z
X-MICROSOFT-CDO-ALLDAYEVENT:FALSE
SUMMARY:Shimmer & Spirits - Crushed glass & Resin Suncatcher Workshop
DESCRIPTION:Come join us to create beautiful suncatchers using crushed glass and resin - a fun and creative way to brighten up any space!\n\nCatch the Light\, Sip Some Delight!\n\nJoin us at The HUB NWI for a magical evening of creativity and refreshment! Artist Tricia from Beautified Treasures will guide you through creating your own stunning crushed glass and resin suncatcher while you enjoy your favorite beverage.\n\nWorkshop Details:\n\n-Create a one-of-a-kind suncatcher using colorful crushed glass and sparkling resin\n\n-Learn professional techniques for working with resin art\n\n-Choose from various designs and color combinations\n\n-Take home a beautiful finished piece that catches and dances with sunlight\n\n-BYOB - bring your favorite wine\, beer\, or non-alcoholic beverage to enjoy\n\nWhat's Included:\n\n-All materials and tools provided\n\n-Step-by-step instruction from experienced artist Tricia\n\n-Protective equipment for working with resin\n\n-A fun\, relaxed atmosphere to unleash your creativity\n\nNo Experience Required! This workshop is perfect for beginners and experienced crafters alike. Tricia will guide you through each step with expert tips and personalized attention.\n\nReserve your spot today! \n\nSpace is limited to ensure each participant receives individual guidance.\n\nPlease note: Your suncatcher will need 24-48 hours to cure fully. Arrangements will be made for pickup from The HUB NWI once your masterpiece is ready to shine!\n\n\n\nhttps://www.thehubnwi.org/events
X-ALT-DESC;FMTTYPE=text/html:<div>Come join us to create beautiful suncatchers using crushed glass and resin - a fun and creative way to brighten up any space!</div>\n\n<div>Catch the Light\, Sip Some Delight!<br />\nJoin us at The HUB NWI for a magical evening of creativity and refreshment! Artist Tricia from Beautified Treasures will guide you through creating your own stunning crushed glass and resin suncatcher while you enjoy your favorite beverage.<br />\nWorkshop Details:<br />\n-Create a one-of-a-kind suncatcher using colorful crushed glass and sparkling resin<br />\n-Learn professional techniques for working with resin art<br />\n-Choose from various designs and color combinations<br />\n-Take home a beautiful finished piece that catches and dances with sunlight<br />\n<strong>-BYOB </strong>- bring your favorite wine\, beer\, or non-alcoholic beverage to enjoy<br />\n<strong>What&#39\;s Included:</strong><br />\n-All materials and tools provided<br />\n-Step-by-step instruction from experienced artist Tricia<br />\n-Protective equipment for working with resin<br />\n-A fun\, relaxed atmosphere to unleash your creativity<br />\n<strong>No Experience Required! </strong>This workshop is perfect for beginners and experienced crafters alike. Tricia will guide you through each step with expert tips and personalized attention.<br />\n<strong>Reserve your spot today! </strong><br />\nSpace is limited to ensure each participant receives individual guidance.<br />\nPlease note: Your suncatcher will need 24-48 hours to cure fully. Arrangements will be made for pickup from The HUB NWI once your masterpiece is ready to shine!<br />\n<br />\n<a href="https://www.thehubnwi.org/events">https://www.thehubnwi.org/events</a></div>\n
LOCATION:the HUB 676 W Division Rd Hebron\, IN 46341 (219)200-2197 Maker@theHUBNWI.org
UID:e.897.7068
SEQUENCE:3
DTSTAMP:20260420T084306Z
URL:https://members.crossroadschamber.org/events/details/shimmer-spirits-crushed-glass-resin-suncatcher-workshop-7068
END:VEVENT

END:VCALENDAR
