BEGIN:VCALENDAR
VERSION:2.0
PRODID:-//ChamberMaster//Event Calendar 2.0//EN
METHOD:PUBLISH
X-PUBLISHED-TTL:P3D
REFRESH-INTERVAL:P3D
CALSCALE:GREGORIAN
BEGIN:VEVENT
DTSTART:20251023T213000Z
DTEND:20251023T230000Z
X-MICROSOFT-CDO-ALLDAYEVENT:FALSE
SUMMARY:Sign Shop by TradeWinds Open House
DESCRIPTION:Raise a glass and celebrate with us at our Oktoberfest-themed Open House at the TradeWinds Sign Shop. Enjoy festive brews\,lite bites\, and a behind-the-scenes look at how our custom signs are crafted. \n\nStop in for fun\, friends\, free gifts\, and fresh ideas\n\nProst to great signs and good times!
X-ALT-DESC;FMTTYPE=text/html:Raise a glass and celebrate with us at our Oktoberfest-themed Open House at the TradeWinds Sign Shop. Enjoy festive brews\,lite bites\, and a behind-the-scenes look at how our custom signs are crafted.&nbsp\;<br />\nStop in for fun\, friends\, free gifts\, and fresh ideas<br />\nProst to great signs and good times!&nbsp\;
LOCATION:The Sign Shop 3198 E 83rd Pl. Merrillville\, IN 46410
UID:e.897.7206
SEQUENCE:3
DTSTAMP:20260419T233341Z
URL:https://members.crossroadschamber.org/events/details/sign-shop-by-tradewinds-open-house-7206
END:VEVENT

END:VCALENDAR
