BEGIN:VCALENDAR
VERSION:2.0
PRODID:-//ChamberMaster//Event Calendar 2.0//EN
METHOD:PUBLISH
X-PUBLISHED-TTL:P3D
REFRESH-INTERVAL:P3D
CALSCALE:GREGORIAN
BEGIN:VEVENT
DTSTART:20231013T233000Z
DTEND:20231014T020000Z
X-MICROSOFT-CDO-ALLDAYEVENT:FALSE
SUMMARY:Sip Savor Support
DESCRIPTION:'Sip Savor Support' is a Culinary Wine Pairing Experience you will never forget. \n\n\n\nHeld at Trinity Banquet Hall in Chesterton\, Indiana\, Sip Savor Support welcomes 240 guests to enjoy a five-course meal with five different wines to enjoy with each course. This followed by Live and silent auctions. All to raise money to support our Northwest Indiana neighbors in crisis. Visit CC Sip Savor Support | Powered By GiveSmart to register for the event or become a sponsor.
X-ALT-DESC;FMTTYPE=text/html:&#39\;Sip Savor Support&#39\; is a Culinary Wine Pairing Experience you will never forget.&nbsp\;<br />\n<br />\nHeld at Trinity Banquet Hall in Chesterton\, Indiana\, Sip Savor Support welcomes 240 guests to enjoy a five-course meal with five different wines to enjoy with each course. This followed by Live and silent auctions. All to raise money to support our Northwest Indiana neighbors in crisis. Visit&nbsp\;<a href="https://e.givesmart.com/events/uEW/">CC Sip Savor Support | Powered By GiveSmart</a>&nbsp\;to register for the event or become a sponsor.
LOCATION:
UID:e.897.5043
SEQUENCE:3
DTSTAMP:20260423T171226Z
URL:https://members.crossroadschamber.org/events/details/sip-savor-support-5043
END:VEVENT

END:VCALENDAR
