BEGIN:VCALENDAR
VERSION:2.0
PRODID:-//ChamberMaster//Event Calendar 2.0//EN
METHOD:PUBLISH
X-PUBLISHED-TTL:P3D
REFRESH-INTERVAL:P3D
CALSCALE:GREGORIAN
BEGIN:VEVENT
DTSTART:20240929T210000Z
DTEND:20240930T000000Z
X-MICROSOFT-CDO-ALLDAYEVENT:FALSE
SUMMARY:Sip\, Savor & Support First Responder and K9's
DESCRIPTION:This event is only made possible thanks to the generosity of Carlos Rivero and Elena Jambrina at Don Quijote Restaurante and Imports. Their donation of food\, drinks\, venue\, and staff allow every dollar raised to go directly to the construction of the next training structure at the MAAC.\n\n\n\nJoin us on September 29th at Don Quijote Restaurante and experience the inspired creations of Chef Carlos Rivero! His passion for Spanish cuisine and wine comes from a lineage of celebrated chefs and a childhood filled with love and gatherings around the table.\n\n\n\nIndulge in a delightful four-course meal of Manchego cheese and Spanish Olives\, Campi ones\, Albondigas\, and Patatas Bravas\, Blackened Red Fish with Saut ed Shrimp and Salad\, homemade dessert and unlimited wine throughout dinner. Best of all\, 100% of event proceeds will directly benefit the MAAC and the First Responders from more than 100 different departments that train on the 30-acre Campus! \n\n \nGather around the table to enjoy a four-course meal highlighting Chef Carlos Rivera's passion for Spanish cuisine and wine. Come ready to bid on exclusive auction items and experiences!\n\n \n\n100% of event proceeds will go directly toward a new building project\, Stutzman Hall enhancing the MAAC campus with our indoor training space at our K9 park. We're also excited to announce that our special co-host\, Howard Gutenstein\, will match every dollar raised at the event up to $50\,000!\n\n \n\nDate: Sunday\, September 29th\n\nLocation: Don Quijote Restaurante\n\nAddress:   119 East Lincolnway\, Valparaiso Indiana 46383\n\nTime: 4:00pm-6:30pm CST\n\nAttire: Business Casual\n\nTickets: $125\, Advanced purchase is required. Tickets are available now at: Stutzman Hall Fundraiser\n\n \n\nEvery day\, first responders representing hundreds of departments train ACROSS OUR campus. Don't miss this opportunity to enjoy an evening of exceptional food and wine while supporting these brave men and women.\n\nPlease don't hesitate to reach out with any questions or dietary restrictions. We hope to see you there!  I encourage you to share our event with your friends and K9 advocates! \n\n\nDon't miss this heartwarming evening of delicious food supporting the training opportunities at the MAAC.
X-ALT-DESC;FMTTYPE=text/html:<span style="color:rgb(0\, 0\, 0)\; font-family:aptos\,aptos_embeddedfont\,aptos_msfontservice\,calibri\,helvetica\,sans-serif\; font-size:16px">This event is only made possible thanks to the generosity of Carlos Rivero and Elena Jambrina at&nbsp\;</span><span style="color:rgb(39\, 169\, 224)\; font-family:aptos\,aptos_embeddedfont\,aptos_msfontservice\,calibri\,helvetica\,sans-serif\; font-size:16px"><u><a class="x_OWAAutoLink" href="https://vnanwi.us19.list-manage.com/track/click?u=2bc608a279e5d56ddd9dd4f45&amp\;id=a05f0cb7ec&amp\;e=e8fb38aa71" id="OWA485b710b-5701-0d96-b8ad-ed1ae35ff68d" rel="noopener noreferrer" style="border: 0px\; font: inherit\; margin: 0px\; padding: 0px\; vertical-align: baseline\; color: rgb(39\, 169\, 224)\;" target="_blank">Don Quijote Restaurante and Imports</a></u></span><span style="color:rgb(0\, 0\, 0)\; font-family:aptos\,aptos_embeddedfont\,aptos_msfontservice\,calibri\,helvetica\,sans-serif\; font-size:16px">. Their donation of food\, drinks\, venue\, and staff allow every dollar raised to go directly to the construction of the next training structure at the MAAC.</span><br />\n<br />\n<span style="color:rgb(0\, 0\, 0)\; font-family:aptos\,aptos_embeddedfont\,aptos_msfontservice\,calibri\,helvetica\,sans-serif\; font-size:16px">Join us on September 29th at&nbsp\;</span><span style="color:rgb(39\, 169\, 224)\; font-family:aptos\,aptos_embeddedfont\,aptos_msfontservice\,calibri\,helvetica\,sans-serif\; font-size:16px"><u><a class="x_OWAAutoLink" href="https://vnanwi.us19.list-manage.com/track/click?u=2bc608a279e5d56ddd9dd4f45&amp\;id=69e874e50f&amp\;e=e8fb38aa71" id="OWA528d1ba7-229c-7222-aacd-88539e41bbf5" rel="noopener noreferrer" style="border: 0px\; font: inherit\; margin: 0px\; padding: 0px\; vertical-align: baseline\; color: rgb(39\, 169\, 224)\;" target="_blank">Don Quijote Restaurante</a></u></span><span style="color:rgb(0\, 0\, 0)\; font-family:aptos\,aptos_embeddedfont\,aptos_msfontservice\,calibri\,helvetica\,sans-serif\; font-size:16px">&nbsp\;and experience the inspired creations of Chef Carlos Rivero! His passion for Spanish cuisine and wine comes from a lineage of celebrated chefs and a childhood filled with love and gatherings around the table.</span><br />\n<br />\n<span style="color:rgb(0\, 0\, 0)\; font-family:aptos\,aptos_embeddedfont\,aptos_msfontservice\,calibri\,helvetica\,sans-serif\; font-size:16px">Indulge in a delightful four-course meal of Manchego cheese and Spanish Olives\, Campi&ntilde\;ones\, Albondigas\, and Patatas Bravas\, Blackened Red Fish with Saut&eacute\;ed Shrimp and Salad\, homemade dessert and unlimited wine throughout dinner. Best of all\, 100% of event proceeds will directly benefit the MAAC and the First Responders from more than 100 different departments that train on the 30-acre Campus!&nbsp\;</span><br />\n&nbsp\;\n<div>Gather around the table to enjoy a four-course meal highlighting Chef Carlos Rivera&rsquo\;s passion for&nbsp\;Spanish cuisine and wine. Come ready to bid on exclusive auction items and experiences!</div>\n\n<div><strong>&nbsp\;</strong></div>\n\n<div>100% of event proceeds will go directly toward&nbsp\;a new building project\, Stutzman Hall enhancing&nbsp\;the MAAC campus with our indoor training space at our K9 park.&nbsp\;We&rsquo\;re also excited to announce that our special co-host\, Howard Gutenstein\,&nbsp\;<em>will match every dollar raised at the event up to $50\,000!</em></div>\n\n<div>&nbsp\;</div>\n\n<div><strong>Date:</strong>&nbsp\;Sunday\,&nbsp\;September 29th</div>\n\n<div><strong>Location:</strong>&nbsp\;Don Quijote Restaurante</div>\n\n<div><strong>Address:&nbsp\; &nbsp\;</strong>119 East Lincolnway\, Valparaiso Indiana 46383</div>\n\n<div><strong>Time:</strong>&nbsp\;4:00pm-6:30pm CST</div>\n\n<div><strong>Attire:</strong>&nbsp\;Business Casual</div>\n\n<div><strong>Tickets:</strong>&nbsp\;$125\, Advanced purchase is required. Tickets are available now at:&nbsp\;<a href="https://secure.qgiv.com/for/speeversv/event/maacsipsavorsupport/" id="LPlnk899313" rel="noopener noreferrer" style="border: 0px\; font: inherit\; margin: 0px\; padding: 0px\; vertical-align: baseline\;" target="_blank" title="https://secure.qgiv.com/for/speeversv/event/maacsipsavorsupport/">Stutzman Hall Fundraiser</a></div>\n\n<div>&nbsp\;</div>\n\n<div>Every day\, first responders representing hundreds of departments train ACROSS OUR campus.&nbsp\;Don&rsquo\;t miss this opportunity to enjoy an evening of exceptional food and wine&nbsp\;while&nbsp\;supporting&nbsp\;these brave men and women.</div>\n\n<div>Please don&rsquo\;t hesitate to reach out with any questions or dietary restrictions.&nbsp\;We hope to see you there!&nbsp\; I encourage you to share our event with your friends and K9 advocates!&nbsp\;</div>\n<br />\n<span style="color:rgb(0\, 0\, 0)\; font-family:aptos\,aptos_embeddedfont\,aptos_msfontservice\,calibri\,helvetica\,sans-serif\; font-size:16px">Don&#39\;t miss this heartwarming evening of delicious food supporting the training opportunities at the MAAC.&nbsp\;</span><br />\n<br />\n&nbsp\;
LOCATION:Location: Don Quijote Restaurante Address: 119 East Lincolnway\, Valparaiso Indiana 46383
UID:e.897.6476
SEQUENCE:3
DTSTAMP:20260420T194218Z
URL:https://members.crossroadschamber.org/events/details/sip-savor-support-first-responder-and-k9-s-6476
END:VEVENT

END:VCALENDAR
