BEGIN:VCALENDAR
VERSION:2.0
PRODID:-//ChamberMaster//Event Calendar 2.0//EN
METHOD:PUBLISH
X-PUBLISHED-TTL:P3D
REFRESH-INTERVAL:P3D
CALSCALE:GREGORIAN
BEGIN:VEVENT
DTSTART:20231004T210000Z
DTEND:20231005T000000Z
X-MICROSOFT-CDO-ALLDAYEVENT:FALSE
SUMMARY:Sip\, Shake & Strategize Senior Living & Healthcare Professional Mix & Mingle
DESCRIPTION:R&M Partners is hosting Sip\, Shake and Strategize for Senior Living & Healthcare Professionals.\n\n\n\nR&M Partners is hosting an Autumn Mix & Mingle to get to build new relationships and share our passion for our NWI senior living and healthcare professionals. Please take a moment to learn more about us at www.randmpartners.co and come join us to Sip\, Shake and Strategize We look forward to seeing you there!
X-ALT-DESC;FMTTYPE=text/html:<span style="color:rgb(66\, 66\, 66)\; font-family:arial\,helvetica\,sans-serif\; font-size:12px">R&amp\;M Partners is hosting Sip\, Shake and Strategize for Senior Living &amp\; Healthcare Professionals.<br />\n<br />\nR&amp\;M Partners is hosting an Autumn Mix &amp\; Mingle to get to build new relationships and share our passion for our NWI senior living and healthcare professionals. Please take a moment to learn more about us at www.randmpartners.co and come join us to Sip\, Shake and Strategize We look forward to seeing you there!</span>
LOCATION:Culinary Misfits 208 S. Main St. Crown Point\, IN 46307
UID:e.897.5068
SEQUENCE:3
DTSTAMP:20260423T172008Z
URL:https://members.crossroadschamber.org/events/details/sip-shake-strategize-senior-living-healthcare-professional-mix-mingle-5068
END:VEVENT

END:VCALENDAR
