BEGIN:VCALENDAR
VERSION:2.0
PRODID:-//ChamberMaster//Event Calendar 2.0//EN
METHOD:PUBLISH
X-PUBLISHED-TTL:P3D
REFRESH-INTERVAL:P3D
CALSCALE:GREGORIAN
BEGIN:VEVENT
DTSTART:20231204T213000Z
DTEND:20231205T003000Z
X-MICROSOFT-CDO-ALLDAYEVENT:FALSE
SUMMARY:SLEIGH THE HOLIDAYS NETWORKING EVENT & SOCKS FOR SENIORS
DESCRIPTION:AccentCare Home Health\, Dunes Hospice\, \n\nAmada Senior Care\, R&M Partners & Valparaiso Senior Village \n\nInvites you to "Sleigh the Holiday" with us! \n\nNetworking Event\n\nTis the season to enjoy the festive flavors! Join us for delicious appetizers\, desserts\, sip seasonal drinks & decorating cookies Don't snowflake out this event!
X-ALT-DESC;FMTTYPE=text/html:<h2 style="text-align:center"><span style="color:#FFFFFF"><big><span style="font-size:22px"><span style="background-color:#008000">AccentCare Home Health\, Dunes Hospice\, </span><br />\n<span style="background-color:#008000">Amada Senior Care\, R&amp\;M Partners &amp\; Valparaiso Senior Village&nbsp\;</span></span></big></span></h2>\n\n<div style="text-align:center"><span style="font-size:16px">Invites you to &quot\;Sleigh the Holiday&quot\; with us!&nbsp\;<br />\nNetworking Event</span></div>\n\n<p style="text-align:center"><big><span style="color:#006400"><em>Tis the season to enjoy the festive flavors! Join us for delicious appetizers\, desserts\, sip seasonal drinks &amp\; decorating cookies Don&#39\;t snowflake out this event!</em></span></big></p>\n
LOCATION:AFTERMATH CIDERY & WINERY 15 Washington St. Valparaiso\, IN 46383
UID:e.897.5483
SEQUENCE:3
DTSTAMP:20260423T134113Z
URL:https://members.crossroadschamber.org/events/details/sleigh-the-holidays-networking-event-socks-for-seniors-5483
END:VEVENT

END:VCALENDAR
