BEGIN:VCALENDAR
VERSION:2.0
PRODID:-//ChamberMaster//Event Calendar 2.0//EN
METHOD:PUBLISH
X-PUBLISHED-TTL:P3D
REFRESH-INTERVAL:P3D
CALSCALE:GREGORIAN
BEGIN:VEVENT
DTSTART;VALUE=DATE:20250227
DTEND;VALUE=DATE:20250228
TRANSP:TRANSPARENT
X-MICROSOFT-CDO-ALLDAYEVENT:TRUE
SUMMARY:Soul Food Dinner in honor of Black History Month at Belvedere Senior Housing
DESCRIPTION:Join us for a Soul Food Dinner to celebrate Black History Month. Our celebration will feature delicious food\, an 8-person band\, and some of the best seniors in the region. See why Belvedere Senior Housing is where adults 55 and over choose to live!\n\nMUST RSVP to 219-769-2145
X-ALT-DESC;FMTTYPE=text/html:Join us for a Soul Food Dinner to celebrate Black History Month. Our celebration will feature delicious food\, an 8-person band\, and some of the best seniors in the region. See why Belvedere Senior Housing is where adults 55 and over choose to live!<br />\nMUST RSVP to 219-769-2145
LOCATION:Belvedere Senior Housing 343 East 90th Drive Merrillville\, IN 46410
UID:e.897.6640
SEQUENCE:3
DTSTAMP:20260420T121120Z
URL:https://members.crossroadschamber.org/events/details/soul-food-dinner-in-honor-of-black-history-month-at-belvedere-senior-housing-6640
END:VEVENT

END:VCALENDAR
