BEGIN:VCALENDAR
VERSION:2.0
PRODID:-//ChamberMaster//Event Calendar 2.0//EN
METHOD:PUBLISH
X-PUBLISHED-TTL:P3D
REFRESH-INTERVAL:P3D
CALSCALE:GREGORIAN
BEGIN:VEVENT
DTSTART:20250515T210000Z
DTEND:20250515T230000Z
X-MICROSOFT-CDO-ALLDAYEVENT:FALSE
SUMMARY:Sounds of Sarah Ribbon Cutting
DESCRIPTION:We are excited to invite everyone to welcome Sounds of Sarah to Griffith. Please join us at the Ribbon Cutting/Open house.\n\n \n\nOpen house will be held from 4p-6p\n\nRibbon Cutting will take place at 4:30pm\n\n \n\nWe look forward to seeing everyone and appreciate your support of our Crossroads Chamber members\, and Northwest Indiana's business Community.
X-ALT-DESC;FMTTYPE=text/html:We are excited to invite everyone to welcome Sounds of Sarah to Griffith. Please join us at the Ribbon Cutting/Open house.<br />\n&nbsp\;<br />\nOpen house will be held from 4p-6p<br />\nRibbon Cutting will take place at 4:30pm<br />\n&nbsp\;<br />\nWe look forward to seeing everyone and appreciate your support of our Crossroads Chamber members\, and Northwest Indiana&rsquo\;s business Community.
LOCATION:2057 Glen Park Ave Griffith\, IN 46319
UID:e.897.7074
SEQUENCE:3
DTSTAMP:20260420T065232Z
URL:https://members.crossroadschamber.org/events/details/sounds-of-sarah-ribbon-cutting-7074
END:VEVENT

END:VCALENDAR
