BEGIN:VCALENDAR
VERSION:2.0
PRODID:-//ChamberMaster//Event Calendar 2.0//EN
METHOD:PUBLISH
X-PUBLISHED-TTL:P3D
REFRESH-INTERVAL:P3D
CALSCALE:GREGORIAN
BEGIN:VEVENT
DTSTART:20250320T230000Z
DTEND:20250321T010000Z
X-MICROSOFT-CDO-ALLDAYEVENT:FALSE
SUMMARY:Special Needs Panel Discussion
DESCRIPTION:Meet with professionals to discuss what resources are available! Below you can see what topics we will be addressing!\n\n  ABLE Accounts\n\n  Special Needs Trusts / Medicaid\n\n  Indiana Education Scholarship Account Program\n\n  Parent's Rights in the Classroom
X-ALT-DESC;FMTTYPE=text/html:<div>Meet with professionals to discuss what resources are available! Below you can see what topics we will be addressing!</div>\n\n<div>&bull\; ABLE Accounts<br />\n&bull\; Special Needs Trusts / Medicaid<br />\n&bull\; Indiana Education Scholarship Account Program<br />\n&bull\; Parent&rsquo\;s Rights in the Classroom</div>\n
LOCATION:Lake County Public Library 1919 81st Ave\, Merrillville\, IN 46410
UID:e.897.6614
SEQUENCE:3
DTSTAMP:20260420T101555Z
URL:https://members.crossroadschamber.org/events/details/special-needs-panel-discussion-6614
END:VEVENT

END:VCALENDAR
