BEGIN:VCALENDAR
VERSION:2.0
PRODID:-//ChamberMaster//Event Calendar 2.0//EN
METHOD:PUBLISH
X-PUBLISHED-TTL:P3D
REFRESH-INTERVAL:P3D
CALSCALE:GREGORIAN
BEGIN:VEVENT
DTSTART:20251214T180000Z
DTEND:20251214T200000Z
X-MICROSOFT-CDO-ALLDAYEVENT:FALSE
SUMMARY:? Sip\, Savor & Create: The Ultimate DIY Gift Class! ? BYOB!
DESCRIPTION:Description:\n\n??? Sip\, Savor & Create: The Ultimate DIY Gift Class! ???\n\n\n\nBYOB!\n\nUnleash your creativity with this fun and unique workshop! Join us at The HUB NWI for an exciting evening with resin artist Tricia Vigland of Beautified Treasures. In this hands-on class\, you'll learn to use spin resin techniques to create stunning\, one-of-a-kind designs on a pair of glasses. Plus\, you'll craft a stylish and practical wine glass carrier or coasters to showcase your beautiful creations!\n\n\n\nWhat to Expect:\n\n?? Resin Art on Glassware: Explore the mesmerizing art of spin resin as you decorate two glasses with vibrant\, swirling designs. Discover expert tips and techniques for achieving stunning results with this versatile medium.\n\n\n\nGet ready to design a heartfelt gift that?s as fun to make as it is to give! In this hands-on class\, you?ll choose your perfect pairing:\n\n\n\n?? Two classic wine glasses with a stylish carrier\n\n?? Two cozy coffee mugs with matching coasters\n\n??? Two stemless wine glasses with coasters to match\n\n\n\nEach set is a beautiful\, handmade gift?crafted by YOU! Whether you're celebrating friendship\, love\, or your own creative spark\, this is the perfect way to make something meaningful.\n\n\n\n?? All supplies included\n\n?? Holiday-ready designs encouraged\n\n?? Gift packaging available\n\n\n\n?? No Experience Needed: Tricia will guide you step by step. Whether you're a seasoned maker or a total beginner\, you'll leave with something amazing.\n\n\n\nWhat?s Included:\n\n?? All materials and tools\n\n?? Two glasses to decorate\n\n?? Supplies for creating your wine glass carrier or coasters\n\n?? Expert guidance in a supportive\, creative environment\n\n\n\n\n\n\n\nSpaces are limited\, so grab your spot now! This class is perfect for a fun day out with friends\, a unique date night\, or simply treating yourself to a creative escape.\n\n\n\n \n\nWe can?t wait to see what you create!
X-ALT-DESC;FMTTYPE=text/html:<p>Description:<br>\n??? Sip\, Savor &amp\; Create: The Ultimate DIY Gift Class! ???<br>\n<br>\nBYOB!<br>\nUnleash your creativity with this fun and unique workshop! Join us at The HUB NWI for an exciting evening with resin artist Tricia Vigland of Beautified Treasures. In this hands-on class\, you'll learn to use spin resin techniques to create stunning\, one-of-a-kind designs on a pair of glasses. Plus\, you'll craft a stylish and practical wine glass carrier or coasters to showcase your beautiful creations!<br>\n<br>\nWhat to Expect:<br>\n?? Resin Art on Glassware: Explore the mesmerizing art of spin resin as you decorate two glasses with vibrant\, swirling designs. Discover expert tips and techniques for achieving stunning results with this versatile medium.<br>\n<br>\nGet ready to design a heartfelt gift that?s as fun to make as it is to give! In this hands-on class\, you?ll choose your perfect pairing:<br>\n<br>\n?? Two classic wine glasses with a stylish carrier<br>\n?? Two cozy coffee mugs with matching coasters<br>\n??? Two stemless wine glasses with coasters to match<br>\n<br>\nEach set is a beautiful\, handmade gift?crafted by YOU! Whether you're celebrating friendship\, love\, or your own creative spark\, this is the perfect way to make something meaningful.<br>\n<br>\n?? All supplies included<br>\n?? Holiday-ready designs encouraged<br>\n?? Gift packaging available<br>\n<br>\n?? No Experience Needed: Tricia will guide you step by step. Whether you're a seasoned maker or a total beginner\, you'll leave with something amazing.<br>\n<br>\nWhat?s Included:<br>\n?? All materials and tools<br>\n?? Two glasses to decorate<br>\n?? Supplies for creating your wine glass carrier or coasters<br>\n?? Expert guidance in a supportive\, creative environment<br>\n<br>\n<br>\n<br>\nSpaces are limited\, so grab your spot now! This class is perfect for a fun day out with friends\, a unique date night\, or simply treating yourself to a creative escape.<br>\n<br>\n&nbsp\;</p>\n\n<p><em>We can?t wait to see what you create!</em></p>\n
LOCATION:The Hub NWI 676 Division Road Hebron\, In 46341
UID:e.897.6649
SEQUENCE:3
DTSTAMP:20260419T195101Z
URL:https://members.crossroadschamber.org/events/details/spin-resin-creations-decorate-wine-glasses-craft-a-wine-glass-carrier-6649
END:VEVENT

END:VCALENDAR
