BEGIN:VCALENDAR
VERSION:2.0
PRODID:-//ChamberMaster//Event Calendar 2.0//EN
METHOD:PUBLISH
X-PUBLISHED-TTL:P3D
REFRESH-INTERVAL:P3D
CALSCALE:GREGORIAN
BEGIN:VEVENT
DTSTART:20240921T160000Z
DTEND:20240921T200000Z
X-MICROSOFT-CDO-ALLDAYEVENT:FALSE
SUMMARY:Step Into Recovery 3K Walkathon
DESCRIPTION:Join Gatehouse Hammond\, Inc.\, for our Step Into Recovery Walk at Wicker Park to celebrate our community members in recovery and recognize the importance of sober living in Northwest Indiana. The Gatehouse event will provide much-needed community and financial support for sober living in Lake County for women.  The event will feature gathering spaces for vendors\, information booths\, speakers\, and a path for participants to walk or run to support addiction recovery.  \n\n\n\nPre-registration required.  You can learn more about this event here.\n\nGatehouse is looking for vendors for our upcoming event. Please click here\n\nWe are looking for sponsors & support.  Please click here
X-ALT-DESC;FMTTYPE=text/html:<p><span style="font-size:12px">Join Gatehouse Hammond\, Inc.\, for our Step Into Recovery Walk at Wicker Park to celebrate our community members in recovery and recognize the importance of sober living in Northwest Indiana. The Gatehouse event will provide much-needed community and financial support for sober living in Lake County for women.&nbsp\; The event will feature gathering spaces for vendors\, information booths\, speakers\, and a path for participants to walk or run to support addiction recovery.&nbsp\;&nbsp\;<br />\n<br />\nPre-registration required.&nbsp\; You can learn more about this event <a href="https://runsignup.com/Race/IN/Highland/StepIntoRecovery3K">here</a>.<br />\nGatehouse is looking for vendors for our upcoming event. Please&nbsp\;<a href="https://drive.google.com/file/d/1oufGraw0Xfu9W_SuhDVaGtLHkjBhqQrJ/view?usp=drive_link">click here</a><br />\nWe are looking for sponsors &amp\; support.&nbsp\; Please <a href="https://drive.google.com/file/d/16jm2K6xCBgVJ8ksDbpLO4UMMY82W_w6B/view?usp=drive_link">click here</a></span></p>\n\n<p>&nbsp\;</p>\n
LOCATION:Wicker Park\, 8554 Indianapolis Blvd\, Highland\, IN 46322-1570
UID:e.897.6270
SEQUENCE:3
DTSTAMP:20260420T195017Z
URL:https://members.crossroadschamber.org/events/details/step-into-recovery-3k-walkathon-6270
END:VEVENT

END:VCALENDAR
