BEGIN:VCALENDAR
VERSION:2.0
PRODID:-//ChamberMaster//Event Calendar 2.0//EN
METHOD:PUBLISH
X-PUBLISHED-TTL:P3D
REFRESH-INTERVAL:P3D
CALSCALE:GREGORIAN
BEGIN:VEVENT
DTSTART:20250527T180000Z
DTEND:20250527T220000Z
X-MICROSOFT-CDO-ALLDAYEVENT:FALSE
SUMMARY:Step Into the Shop - Generate's Grand Opening
DESCRIPTION:You're invited to the grand opening of The Shop\, Generate's brand-new showroom and creative space! Join us for an open house-style event as we celebrate this exciting new chapter.\n\nCome explore what The Shop has to offer and enjoy:\n\n\n	Light Refreshments & Snacks\n	Fun Giveaways\n	Professional Headshots\n\n	(With the option to purchase select images directly from the photographer.)\n\n\nWhether you're curious about what we do\, interested in our services\, or just want to celebrate with us stop by any time between 1 PM and 5 PM.\n\nWe can't wait to welcome you into The Shop!\n\nNote: When you arrive to 1217 Arrowhead Court please drive around to the back of the building to access our entrance.
X-ALT-DESC;FMTTYPE=text/html:<p>You&#39\;re invited to the grand opening of&nbsp\;<strong>The Shop</strong>\, Generate&rsquo\;s brand-new showroom and creative space! Join us for an&nbsp\;<strong>open house-style event</strong>&nbsp\;as we celebrate this exciting new chapter.</p>\n\n<p>Come explore what The Shop has to offer and enjoy:</p>\n\n<ul>\n	<li><strong>Light Refreshments &amp\; Snacks</strong></li>\n	<li><strong>Fun Giveaways</strong></li>\n	<li><strong>Professional Headshots</strong><br />\n	(With the option to purchase select images directly from the photographer.)</li>\n</ul>\n\n<p>Whether you&rsquo\;re curious about what we do\, interested in our services\, or just want to celebrate with us&mdash\;<strong>stop by any time between 1 PM and 5 PM</strong>.</p>\n\n<p>We can&rsquo\;t wait to welcome you into&nbsp\;<strong>The Shop</strong>!</p>\n\n<p>Note: When you arrive to 1217 Arrowhead Court please drive around to the back of the building to access our entrance.</p>\n
LOCATION:1217 Arrowhead Court in Crown Point\, IN Note: When you arrive to 1217 Arrowhead Court please drive around to the back of the building to access our entrance.
UID:e.897.7091
SEQUENCE:3
DTSTAMP:20260420T065200Z
URL:https://members.crossroadschamber.org/events/details/step-into-the-shop-generate-s-grand-opening-7091
END:VEVENT

END:VCALENDAR
