BEGIN:VCALENDAR
VERSION:2.0
PRODID:-//ChamberMaster//Event Calendar 2.0//EN
METHOD:PUBLISH
X-PUBLISHED-TTL:P3D
REFRESH-INTERVAL:P3D
CALSCALE:GREGORIAN
BEGIN:VEVENT
DTSTART:20231103T160000Z
DTEND:20231103T163000Z
X-MICROSOFT-CDO-ALLDAYEVENT:FALSE
SUMMARY:Stepping Stones Early Learning Child Care Ribbon Cutting
DESCRIPTION:We are excited welcome Stepping Stones Early Learning Child Care to Portage. Please join us as the owners receive their keys to their newly renovated building! \n\n \n\nRibbon Cutting will take place at 11am.\n\n \n\nWe look forward to seeing everyone and appreciate your support of our Crossroads Chamber members\, and Northwest Indiana's business Community.
X-ALT-DESC;FMTTYPE=text/html:We are excited welcome Stepping Stones Early Learning Child Care to Portage. Please join us as the owners receive their keys to their newly renovated building!&nbsp\;<br />\n&nbsp\;<br />\nRibbon Cutting will take place at 11am.<br />\n&nbsp\;<br />\nWe look forward to seeing everyone and appreciate your support of our Crossroads Chamber members\, and Northwest Indiana&rsquo\;s business Community.
LOCATION:5997 Carlson Ave Portage\, IN 46368
UID:e.897.5081
SEQUENCE:3
DTSTAMP:20260423T152457Z
URL:https://members.crossroadschamber.org/events/details/stepping-stones-early-learning-child-care-ribbon-cutting-5081
END:VEVENT

END:VCALENDAR
