BEGIN:VCALENDAR
VERSION:2.0
PRODID:-//ChamberMaster//Event Calendar 2.0//EN
METHOD:PUBLISH
X-PUBLISHED-TTL:P3D
REFRESH-INTERVAL:P3D
CALSCALE:GREGORIAN
BEGIN:VEVENT
DTSTART:20250624T210000Z
DTEND:20250624T230000Z
X-MICROSOFT-CDO-ALLDAYEVENT:FALSE
SUMMARY:Sundresses & Sangria Soiree
DESCRIPTION:Join us for a fun and relaxed evening with Women in Leadership Development (WILD) Committee at Youche Country Club!  Put on your favorite sundress\, sip on sangria\, and network with fellow professionals.  Together\, we'll explore strategies to achieve that perfect balance between work and personal life.  We can't wait to see you there!
X-ALT-DESC;FMTTYPE=text/html:Join us for a fun and relaxed evening with Women in Leadership Development (WILD) Committee at Youche Country Club!&nbsp\; Put on your favorite sundress\, sip on sangria\, and network with fellow professionals.&nbsp\; Together\, we&#39\;ll explore strategies to achieve that perfect balance between work and personal life.&nbsp\; We can&#39\;t wait to see you there!
LOCATION:Youche Country Club 2301 W 129th Place Crown Point\, IN
UID:e.897.7064
SEQUENCE:3
DTSTAMP:20260420T131056Z
URL:https://members.crossroadschamber.org/events/details/sundresses-sangria-soiree-7064
END:VEVENT

END:VCALENDAR
