BEGIN:VCALENDAR
VERSION:2.0
PRODID:-//ChamberMaster//Event Calendar 2.0//EN
METHOD:PUBLISH
X-PUBLISHED-TTL:P3D
REFRESH-INTERVAL:P3D
CALSCALE:GREGORIAN
BEGIN:VEVENT
DTSTART:20230928T170000Z
DTEND:20230928T190000Z
X-MICROSOFT-CDO-ALLDAYEVENT:FALSE
SUMMARY:T-Mobile Ribbon Cutting
DESCRIPTION:We are excited to invite everyone to welcome T-Mobile to Crown Point. Please join us at the\n\nRibbon Cutting/Open house.\n\n \n\nOpen house will be held from 12pm-2pm\n\nRibbon Cutting will take place at 12:30pm.\n\n \n\nWe look forward to seeing everyone and appreciate your support of our Crossroads Chamber members\,\n\nand Northwest Indiana's business community.
X-ALT-DESC;FMTTYPE=text/html:We are excited to invite everyone to welcome T-Mobile to Crown Point. Please join us at the<br />\nRibbon Cutting/Open house.<br />\n&nbsp\;<br />\nOpen house will be held from 12pm-2pm<br />\nRibbon Cutting will take place at 12:30pm.<br />\n&nbsp\;<br />\nWe look forward to seeing everyone and appreciate your support of our Crossroads Chamber members\,<br />\nand Northwest Indiana&rsquo\;s business community.
LOCATION:10704 Broadway Crown Point\, IN 46307
UID:e.897.5067
SEQUENCE:3
DTSTAMP:20260423T185906Z
URL:https://members.crossroadschamber.org/events/details/t-mobile-ribbon-cutting-5067
END:VEVENT

END:VCALENDAR
