BEGIN:VCALENDAR
VERSION:2.0
PRODID:-//ChamberMaster//Event Calendar 2.0//EN
METHOD:PUBLISH
X-PUBLISHED-TTL:P3D
REFRESH-INTERVAL:P3D
CALSCALE:GREGORIAN
BEGIN:VEVENT
DTSTART:20240221T220000Z
DTEND:20240221T230000Z
X-MICROSOFT-CDO-ALLDAYEVENT:FALSE
SUMMARY:Taco Pros Ribbon Cutting
DESCRIPTION:We are excited to invite everyone to welcome Taco Pros to Merrillville. Please join us at the Ribbon Cutting.\n\n \n\nRibbon Cutting will take place at 4pm. \n\n \n\nWe look forward to seeing everyone and appreciate your support of our Crossroads Chamber members\, and Northwest Indiana's business Community.
X-ALT-DESC;FMTTYPE=text/html:We are excited to invite everyone to welcome Taco Pros to Merrillville. Please join us at the Ribbon Cutting.<br />\n&nbsp\;<br />\nRibbon Cutting will take place at 4pm.&nbsp\;<br />\n&nbsp\;<br />\nWe look forward to seeing everyone and appreciate your support of our Crossroads Chamber members\, and Northwest Indiana&rsquo\;s business Community.
LOCATION:8160 Mississippi St Merrillville\, IN 46410
UID:e.897.6094
SEQUENCE:3
DTSTAMP:20260423T104113Z
URL:https://members.crossroadschamber.org/events/details/taco-pros-ribbon-cutting-6094
END:VEVENT

END:VCALENDAR
