BEGIN:VCALENDAR
VERSION:2.0
PRODID:-//ChamberMaster//Event Calendar 2.0//EN
METHOD:PUBLISH
X-PUBLISHED-TTL:P3D
REFRESH-INTERVAL:P3D
CALSCALE:GREGORIAN
BEGIN:VEVENT
DTSTART:20231116T193000Z
DTEND:20231116T200000Z
X-MICROSOFT-CDO-ALLDAYEVENT:FALSE
SUMMARY:Tech Credit Union Ribbon Cutting
DESCRIPTION:We are excited to invite everyone to Tech Credit Union's Ribbon Cutting. \n\n\n\nRibbon Cutting will take place at 1:30pm\n\n \n\nWe look forward to seeing everyone and appreciate your support of our Crossroads Chamber members\, and Northwest Indiana's business Community.
X-ALT-DESC;FMTTYPE=text/html:We are excited to invite everyone to Tech Credit Union&#39\;s Ribbon Cutting.&nbsp\;<br />\n<br />\nRibbon Cutting will take place at 1:30pm<br />\n&nbsp\;<br />\nWe look forward to seeing everyone and appreciate your support of our Crossroads Chamber members\, and Northwest Indiana&rsquo\;s business Community.
LOCATION:10951 Broadway Crown Point\, IN 46307
UID:e.897.5484
SEQUENCE:3
DTSTAMP:20260423T152032Z
URL:https://members.crossroadschamber.org/events/details/tech-credit-union-ribbon-cutting-5484
END:VEVENT

END:VCALENDAR
