BEGIN:VCALENDAR
VERSION:2.0
PRODID:-//ChamberMaster//Event Calendar 2.0//EN
METHOD:PUBLISH
X-PUBLISHED-TTL:P3D
REFRESH-INTERVAL:P3D
CALSCALE:GREGORIAN
BEGIN:VEVENT
DTSTART:20240210T150000Z
DTEND:20240210T180000Z
X-MICROSOFT-CDO-ALLDAYEVENT:FALSE
SUMMARY:The Art of Healthy Living Event
DESCRIPTION:Come learn from the experts how you can help improve your health both mentally & physically. This event is designed to help educate and empower you in your health journey. We will be discussing Gut Health and Mobility & Fitness Movements\, while also offering a Guided Stretch Session & PNF Techniques\, followed by Restorative Yoga & Breathwork.\n\nHolistically Well * Certified Personal Trainer ATF * On the Go Mobile Massage * Mid Coast Yoga\n\n*Event includes Refreshments & Gift Bag with Coupons\n\n*Please bring your yoga mat with you
X-ALT-DESC;FMTTYPE=text/html:<p>Come learn from the experts how you can help improve your health both mentally &amp\; physically. This event is designed to help educate and empower you in your health journey. We will be discussing Gut Health and Mobility &amp\; Fitness Movements\, while also offering a Guided Stretch Session &amp\; PNF Techniques\, followed by Restorative Yoga &amp\; Breathwork.</p>\n\n<p><strong>Holistically Well * Certified Personal Trainer ATF *&nbsp\;</strong><strong>On the Go Mobile Massage * Mid Coast Yoga</strong></p>\n\n<p><strong>*Event includes Refreshments &amp\; Gift Bag with Coupons<br />\n*Please bring your yoga mat with you</strong></p>\n
LOCATION:Located at Real Space 5164 E. 81st Avenue Merrillville\, IN
UID:e.897.5662
SEQUENCE:3
DTSTAMP:20260423T102735Z
URL:https://members.crossroadschamber.org/events/details/the-art-of-healthy-living-event-5662
END:VEVENT

END:VCALENDAR
