BEGIN:VCALENDAR
VERSION:2.0
PRODID:-//ChamberMaster//Event Calendar 2.0//EN
METHOD:PUBLISH
X-PUBLISHED-TTL:P3D
REFRESH-INTERVAL:P3D
CALSCALE:GREGORIAN
BEGIN:VEVENT
DTSTART:20241008T200000Z
DTEND:20241008T210000Z
X-MICROSOFT-CDO-ALLDAYEVENT:FALSE
SUMMARY:The Avanti Industrial Building Ribbon Cutting
DESCRIPTION:We are excited to invite everyone to the ribbon cutting of Avanti Industrial Building.\n\n \n\nOpen house will be held from 3p-4p\n\nRibbon Cutting will take place at 3:30pm\n\n \n\nWe look forward to seeing everyone and appreciate your support of our Crossroads Chamber members\, and Northwest Indiana's business Community.
X-ALT-DESC;FMTTYPE=text/html:We are excited to invite everyone to the ribbon cutting of Avanti Industrial Building.<br />\n&nbsp\;<br />\nOpen house will be held from 3p-4p<br />\nRibbon Cutting will take place at 3:30pm<br />\n&nbsp\;<br />\nWe look forward to seeing everyone and appreciate your support of our Crossroads Chamber members\, and Northwest Indiana&rsquo\;s business Community.
LOCATION:503 E 98th Ave Merrillville\, IN
UID:e.897.6493
SEQUENCE:3
DTSTAMP:20260420T181821Z
URL:https://members.crossroadschamber.org/events/details/the-avanti-industrial-building-ribbon-cutting-6493
END:VEVENT

END:VCALENDAR
