BEGIN:VCALENDAR
VERSION:2.0
PRODID:-//ChamberMaster//Event Calendar 2.0//EN
METHOD:PUBLISH
X-PUBLISHED-TTL:P3D
REFRESH-INTERVAL:P3D
CALSCALE:GREGORIAN
BEGIN:VEVENT
DTSTART:20230412T213000Z
DTEND:20230413T000000Z
X-MICROSOFT-CDO-ALLDAYEVENT:FALSE
SUMMARY:The Big Reveal!
DESCRIPTION:Mark your calendars. We have some exciting changes coming to Crossroads Regional Chamber of Commerce. \nWe're counting down the days until Our Big Reveal! Join us on Wednesday\, April 12th from 4:30pm to 7:00pm in the Hard Rock Live room for networking\, hors d'oeuvres\, open bar\, giveaways\, and a live performance by Dick Diamond and The Dusters! This is one event you won't want to miss! \n\nREGISTRATION IS REQUIRED VIA EVENTBRITE.\n\nhttps://www.eventbrite.com/e/launch-tickets-52663057522
X-ALT-DESC;FMTTYPE=text/html:Mark your calendars. We have some exciting changes coming to Crossroads Regional Chamber of Commerce.&nbsp\;\n<p data-key="15"><span data-key="16">We&rsquo\;re counting down the days until Our Big Reveal! Join us on Wednesday\, April 12th from 4:30pm to 7:00pm in the Hard Rock Live room for networking\, hors d&rsquo\;oeuvres\, open bar\, giveaways\, and a live performance by Dick Diamond and The Dusters! This is one event you won&rsquo\;t want to miss! </span></p>\n\n<p data-key="17">REGISTRATION IS REQUIRED VIA EVENTBRITE.<br />\nhttps://www.eventbrite.com/e/launch-tickets-52663057522</p>\n
LOCATION:Hard Rock Casino Northern Indiana 5400 W 29th Ave Gary\, IN 46406
UID:e.897.4882
SEQUENCE:3
DTSTAMP:20260424T034909Z
URL:https://members.crossroadschamber.org/events/details/the-big-reveal-4882
END:VEVENT

END:VCALENDAR
