BEGIN:VCALENDAR
VERSION:2.0
PRODID:-//ChamberMaster//Event Calendar 2.0//EN
METHOD:PUBLISH
X-PUBLISHED-TTL:P3D
REFRESH-INTERVAL:P3D
CALSCALE:GREGORIAN
BEGIN:VEVENT
DTSTART:20230531T150000Z
DTEND:20230531T160000Z
X-MICROSOFT-CDO-ALLDAYEVENT:FALSE
SUMMARY:THE HABITAT FOR HUMANITY RESTORE RIBBON CUTTING
DESCRIPTION:We have expanded! Please join us as we celebrate the new addition to our ReStore! Our organization is thrilled to have more space to feature new and donated appliances\, furniture\, cabinets\, building materials and SO MUCH MORE! All in support of the Habitat for Humanity of Northwest Indiana mission.
X-ALT-DESC;FMTTYPE=text/html:We have expanded! Please join us as we celebrate the new addition to our ReStore! Our organization is thrilled to have more space to feature new and donated appliances\, furniture\, cabinets\, building materials and SO MUCH MORE! All in support of the Habitat for Humanity of Northwest Indiana mission.
LOCATION:6114 W. Ridge Road\, Griffith\, IN
UID:e.897.5022
SEQUENCE:3
DTSTAMP:20260424T035401Z
URL:https://members.crossroadschamber.org/events/details/the-habitat-for-humanity-restore-ribbon-cutting-5022
END:VEVENT

END:VCALENDAR
