BEGIN:VCALENDAR
VERSION:2.0
PRODID:-//ChamberMaster//Event Calendar 2.0//EN
METHOD:PUBLISH
X-PUBLISHED-TTL:P3D
REFRESH-INTERVAL:P3D
CALSCALE:GREGORIAN
BEGIN:VEVENT
DTSTART:20240516T210000Z
DTEND:20240516T230000Z
X-MICROSOFT-CDO-ALLDAYEVENT:FALSE
SUMMARY:The Peach Cobbler Factory Ribbon Cutting
DESCRIPTION:We are excited to invite everyone to welcome The Peach Cobbler Factory to Merrillville . Please join us at the Ribbon Cutting/ Open house.\n\n\n\nOpen house will be held from 4p-6p.\n\nRibbon Cutting will take place at 4:15pm.\n\n\n\nWe look forward to seeing everyone and appreciate your support of our Crossroads Chamber members\, and Northwest Indiana's business Community.
X-ALT-DESC;FMTTYPE=text/html:We are excited to invite everyone to welcome The Peach Cobbler Factory to Merrillville . Please join us at the Ribbon Cutting/ Open house.<br />\n<br />\nOpen house will be held from 4p-6p.<br />\nRibbon Cutting will take place at 4:15pm.<br />\n<br />\nWe look forward to seeing everyone and appreciate your support of our Crossroads Chamber members\, and Northwest Indiana&rsquo\;s business Community.
LOCATION:610 81st Ave\, Merrillville\, IN 46410
UID:e.897.6251
SEQUENCE:3
DTSTAMP:20260421T060155Z
URL:https://members.crossroadschamber.org/events/details/the-peach-cobbler-factory-ribbon-cutting-6251
END:VEVENT

END:VCALENDAR
