BEGIN:VCALENDAR
VERSION:2.0
PRODID:-//ChamberMaster//Event Calendar 2.0//EN
METHOD:PUBLISH
X-PUBLISHED-TTL:P3D
REFRESH-INTERVAL:P3D
CALSCALE:GREGORIAN
BEGIN:VEVENT
DTSTART:20240717T230000Z
DTEND:20240718T003000Z
X-MICROSOFT-CDO-ALLDAYEVENT:FALSE
SUMMARY:The State of Health Insurance
DESCRIPTION:Chase Lowden\, Financial Advisor & Apitz Claussen Health\, LLC are happy to partner to present updates coming to the health insurance markets and how it will affect your wallet and options for care. \n\n\n\nTopics:\n\n  How in 2024 Short Term Medical Plans will not be a reasonable option now due to new regulations\n\n\n\n  When someone should start talking to a professional about Medicare & how it works\n\n\n\n  Is Long Term Care covered by Medicare or Medicare Supplement?
X-ALT-DESC;FMTTYPE=text/html:Chase Lowden\, Financial Advisor &amp\; Apitz Claussen Health\, LLC are happy to partner to present updates coming to the health insurance markets and how it will affect your wallet and options for care.&nbsp\;<br />\n<br />\nTopics:<br />\n&bull\; How in 2024 Short Term Medical Plans will not be a reasonable option now due to new regulations<br />\n<br />\n&bull\; When someone should start talking to a professional about Medicare &amp\; how it works<br />\n<br />\n&bull\; Is Long Term Care covered by Medicare or Medicare Supplement?
LOCATION:Merrillville Branch of the Lake County Public
UID:e.897.6295
SEQUENCE:3
DTSTAMP:20260421T022318Z
URL:https://members.crossroadschamber.org/events/details/the-state-of-health-insurance-6295
END:VEVENT

END:VCALENDAR
