BEGIN:VCALENDAR
VERSION:2.0
PRODID:-//ChamberMaster//Event Calendar 2.0//EN
METHOD:PUBLISH
X-PUBLISHED-TTL:P3D
REFRESH-INTERVAL:P3D
CALSCALE:GREGORIAN
BEGIN:VEVENT
DTSTART:20240919T170000Z
DTEND:20240919T180000Z
X-MICROSOFT-CDO-ALLDAYEVENT:FALSE
SUMMARY:The Way To Wealth
DESCRIPTION:Live below your means\, invest the rest\, and be generous with your time\, talent\, and treasure. Money does not buy you happiness\; rather\, it is a tool that can help you achieve your goals. Join Bradley Saribekian\, a Certified Business & Leadership Coach\, and Dave Quaglia\, a Financial Advisor\, in their next installment of the comprehensive workshop series "Financial Empowerment for Entrepreneurs." In this session\, Bradley and Dave will show you how to set up your personal and business financial systems to work for you and\, over time\, give you the resources to buy back your freedom and enjoy life generously.
X-ALT-DESC;FMTTYPE=text/html:<span style="color:rgb(35\, 35\, 51)\; font-family:helvetica neue\,helvetica\,arial\,sans-serif\; font-size:14px">Live below your means\, invest the rest\, and be generous with your time\, talent\, and treasure. Money does not buy you happiness\; rather\, it is a tool that can help you achieve your goals. Join Bradley Saribekian\, a Certified Business &amp\; Leadership Coach\, and Dave Quaglia\, a Financial Advisor\, in their next installment of the comprehensive workshop series &quot\;Financial Empowerment for Entrepreneurs.&quot\; In this session\, Bradley and Dave will show you how to set up your personal and business financial systems to work for you and\, over time\, give you the resources to buy back your freedom and enjoy life generously.</span>
LOCATION:Zoom. Registration required: https://bit.ly/fp-w2w
UID:e.897.6463
SEQUENCE:3
DTSTAMP:20260420T194115Z
URL:https://members.crossroadschamber.org/events/details/the-way-to-wealth-6463
END:VEVENT

END:VCALENDAR
