BEGIN:VCALENDAR
VERSION:2.0
PRODID:-//ChamberMaster//Event Calendar 2.0//EN
METHOD:PUBLISH
X-PUBLISHED-TTL:P3D
REFRESH-INTERVAL:P3D
CALSCALE:GREGORIAN
BEGIN:VEVENT
DTSTART;VALUE=DATE:20250429
DTEND;VALUE=DATE:20250430
TRANSP:TRANSPARENT
X-MICROSOFT-CDO-ALLDAYEVENT:TRUE
SUMMARY:Today's Healthcare Solutions for Employers Symposium
DESCRIPTION:TODAY'S HEALTHCARE SOLUTIONS FOR EMPLOYERS SYMPOSIUM\n\nAPRIL 29\, 2025 | GOLF CLUB OF INDIANA\, 6905 S. 525 E.\, LEBANON\, INDIANA 46052\n\n9am-4pm EST Breakfast & Lunch provided\n\n\n\nExpert panels with employers\, brokers\, and\n\nindustry leaders. Onsite/near site clinic\n\ndiscussions with expert insights from the Executive\n\nDirector of National Worksite Health Centers\,\n\nLarry Boress.\n\nWellness Initiatives for the modern-day workforce\n\nwith mental health experts and Linda Passmore\,\n\nCEO of Complete Wellness Solutions.\n\nDirector of Employer Solutions at Franciscan\n\nHealth\, Tim Ross with Steve Zetzl from Northwind\n\nPharmaceuticals.\n\nWorkers Compensation panel with insurance\n\nprofessionals and medical expert\, Dr. Charles\n\nMok\, Jr.!\n\nFOLLOW US ON LINKEDIN AT FRANCISCAN WORKINGWELL FOR EVENT UPDATES\n\nTO RSVP  CALL OR EMAIL 219-877-2143 | WWClientRelations@FranciscanAlliance.org
X-ALT-DESC;FMTTYPE=text/html:TODAY&rsquo\;S HEALTHCARE SOLUTIONS FOR EMPLOYERS SYMPOSIUM<br />\nAPRIL 29\, 2025 | GOLF CLUB OF INDIANA\, 6905 S. 525 E.\, LEBANON\, INDIANA 46052<br />\n9am-4pm EST Breakfast &amp\; Lunch provided<br />\n<br />\nExpert panels with employers\, brokers\, and<br />\nindustry leaders. Onsite/near site clinic<br />\ndiscussions with expert insights from the Executive<br />\nDirector of National Worksite Health Centers\,<br />\nLarry Boress.<br />\nWellness Initiatives for the modern-day workforce<br />\nwith mental health experts and Linda Passmore\,<br />\nCEO of Complete Wellness Solutions.<br />\nDirector of Employer Solutions at Franciscan<br />\nHealth\, Tim Ross with Steve Zetzl from Northwind<br />\nPharmaceuticals.<br />\nWorkers Compensation panel with insurance<br />\nprofessionals and medical expert\, Dr. Charles<br />\nMok\, Jr.!<br />\nFOLLOW US ON LINKEDIN AT FRANCISCAN WORKINGWELL FOR EVENT UPDATES<br />\nTO RSVP&nbsp\; CALL OR EMAIL 219-877-2143 | WWClientRelations@FranciscanAlliance.org<br />\n<br />\n<br />\n<br />\n&nbsp\;
LOCATION:APRIL 29\, 2025 | GOLF CLUB OF INDIANA\, 6905 S. 525 E.\, LEBANON\, INDIANA 46052
UID:e.897.6851
SEQUENCE:3
DTSTAMP:20260420T102931Z
URL:https://members.crossroadschamber.org/events/details/today-s-healthcare-solutions-for-employers-symposium-6851
END:VEVENT

END:VCALENDAR
