BEGIN:VCALENDAR
VERSION:2.0
PRODID:-//ChamberMaster//Event Calendar 2.0//EN
METHOD:PUBLISH
X-PUBLISHED-TTL:P3D
REFRESH-INTERVAL:P3D
CALSCALE:GREGORIAN
BEGIN:VEVENT
DTSTART:20241025T210000Z
DTEND:20241025T230000Z
X-MICROSOFT-CDO-ALLDAYEVENT:FALSE
SUMMARY:Trunk-or-Treat at Belvedere Senior Housing
DESCRIPTION:Come one\, come all to our spooky Trunk or Treat event. We will have tons of candy\, food\, hot chocolate\, a DJ providing the spookiest sounds\, and a bounce house for your entertainment. Don't forget to wear your costumes!
X-ALT-DESC;FMTTYPE=text/html:<span style="background-color:rgb(36\, 37\, 38)\; color:rgb(228\, 230\, 235)\; font-family:segoe ui historic\,segoe ui\,helvetica\,arial\,sans-serif\; font-size:15px">Come one\, come all to our spooky Trunk or Treat event. We will have tons of candy\, food\, hot chocolate\, a DJ providing the spookiest sounds\, and a bounce house for your entertainment. Don&#39\;t forget to wear your costumes!</span>
LOCATION:Belvedere Senior Housing 343 East 90th Drive Merrillville\, IN 46410
UID:e.897.6499
SEQUENCE:3
DTSTAMP:20260420T181902Z
URL:https://members.crossroadschamber.org/events/details/trunk-or-treat-at-belvedere-senior-housing-6499
END:VEVENT

END:VCALENDAR
