BEGIN:VCALENDAR
VERSION:2.0
PRODID:-//ChamberMaster//Event Calendar 2.0//EN
METHOD:PUBLISH
X-PUBLISHED-TTL:P3D
REFRESH-INTERVAL:P3D
CALSCALE:GREGORIAN
BEGIN:VEVENT
DTSTART:20250603T210000Z
DTEND:20250603T230000Z
X-MICROSOFT-CDO-ALLDAYEVENT:FALSE
SUMMARY:Two Maids of Crown Point Ribbon Cutting
DESCRIPTION:We are excited to invite everyone to welcome Two Maid of Crown Point to Crown Point. Please join us at the Ribbon Cutting/ Open house.\n\n \n\nOpen house will be held from 4p-6p.\n\nRibbon Cutting will take place at 4:15pm.\n\n \n\nWe look forward to seeing everyone and appreciate your support of our Crossroads Chamber members\, and Northwest Indiana's business Community.
X-ALT-DESC;FMTTYPE=text/html:<span style="font-size:16px\;">We are excited to invite everyone to welcome Two Maid of Crown Point to Crown Point. Please join us at the Ribbon Cutting/ Open house.<br />\n&nbsp\;<br />\nOpen house will be held from 4p-6p.<br />\nRibbon Cutting will take place at 4:15pm.<br />\n&nbsp\;<br />\nWe look forward to seeing everyone and appreciate your support of our Crossroads Chamber members\, and Northwest Indiana&rsquo\;s business Community.</span>
LOCATION:5124 Pine Island Ct Crown Point\, IN 46307
UID:e.897.7088
SEQUENCE:3
DTSTAMP:20260420T065232Z
URL:https://members.crossroadschamber.org/events/details/two-maids-of-crown-point-ribbon-cutting-7088
END:VEVENT

END:VCALENDAR
