BEGIN:VCALENDAR
VERSION:2.0
PRODID:-//ChamberMaster//Event Calendar 2.0//EN
METHOD:PUBLISH
X-PUBLISHED-TTL:P3D
REFRESH-INTERVAL:P3D
CALSCALE:GREGORIAN
BEGIN:VEVENT
DTSTART:20260213T143000Z
DTEND:20260213T153000Z
X-MICROSOFT-CDO-ALLDAYEVENT:FALSE
SUMMARY:Understanding SEA 1: Property Tax Reform & Its Impact on Indiana Communities
DESCRIPTION:Join us for a regional discussion with Accelerate Indiana Municipalities (AIM) as they help us understand SEA 1:  Property Tax Reform & Its Impact on Indiana Communities
X-ALT-DESC;FMTTYPE=text/html:Join us for a regional discussion with Accelerate Indiana Municipalities (AIM) as they help us understand SEA 1:&nbsp\; Property Tax Reform &amp\; Its Impact on Indiana Communities
LOCATION:The Dean & Barbara White Community Center 6600 Broadway Merrillville
UID:e.897.7356
SEQUENCE:3
DTSTAMP:20260419T163912Z
URL:https://members.crossroadschamber.org/events/details/understanding-sea-1-property-tax-reform-its-impact-on-indiana-communities-7356
END:VEVENT

END:VCALENDAR
