BEGIN:VCALENDAR
VERSION:2.0
PRODID:-//ChamberMaster//Event Calendar 2.0//EN
METHOD:PUBLISH
X-PUBLISHED-TTL:P3D
REFRESH-INTERVAL:P3D
CALSCALE:GREGORIAN
BEGIN:VEVENT
DTSTART:20250306T130000Z
DTEND:20250306T220000Z
X-MICROSOFT-CDO-ALLDAYEVENT:FALSE
SUMMARY:United Rentals Ribbon Cutting
DESCRIPTION:We are excited to invite everyone to welcome United Rentals to Crown Point. Please join us at the Ribbon Cutting/Open house.\n\n \n\nRibbon Cutting will take place at 12:00pm.\n\n \n\nWe look forward to seeing everyone and appreciate your support of our Crossroads Chamber members\, and Northwest Indiana's business Community.
X-ALT-DESC;FMTTYPE=text/html:<span style="font-size:20px\;">&nbsp\;We are excited to invite everyone to welcome United Rentals to Crown Point. Please join us at the Ribbon Cutting/Open house.<br />\n&nbsp\;<br />\n<span style="font-size:24px\;"><strong>Ribbon Cutting will take place at 12:00pm.</strong></span><br />\n&nbsp\;<br />\nWe look forward to seeing everyone and appreciate your support of our Crossroads Chamber members\, and Northwest Indiana&rsquo\;s business Community.</span>
LOCATION:520 E 110th Ave Crown Point\, IN 46307
UID:e.897.6647
SEQUENCE:3
DTSTAMP:20260420T102733Z
URL:https://members.crossroadschamber.org/events/details/united-rentals-ribbon-cutting-6647
END:VEVENT

END:VCALENDAR
