BEGIN:VCALENDAR
VERSION:2.0
PRODID:-//ChamberMaster//Event Calendar 2.0//EN
METHOD:PUBLISH
X-PUBLISHED-TTL:P3D
REFRESH-INTERVAL:P3D
CALSCALE:GREGORIAN
BEGIN:VEVENT
DTSTART:20240711T214500Z
DTEND:20240711T223000Z
X-MICROSOFT-CDO-ALLDAYEVENT:FALSE
SUMMARY:Vast Creative Co. Ribbon Cutting
DESCRIPTION:
X-ALT-DESC;FMTTYPE=text/html:
LOCATION:134 S Main St. Crown Point\, IN 46307
UID:e.897.6429
SEQUENCE:3
DTSTAMP:20260421T022052Z
URL:https://members.crossroadschamber.org/events/details/vast-creative-co-ribbon-cutting-6429
END:VEVENT

END:VCALENDAR
