BEGIN:VCALENDAR
VERSION:2.0
PRODID:-//ChamberMaster//Event Calendar 2.0//EN
METHOD:PUBLISH
X-PUBLISHED-TTL:P3D
REFRESH-INTERVAL:P3D
CALSCALE:GREGORIAN
BEGIN:VEVENT
DTSTART:20241011T230000Z
DTEND:20241012T030000Z
X-MICROSOFT-CDO-ALLDAYEVENT:FALSE
SUMMARY:Vision of Health Banquet
DESCRIPTION:HealthVisions Midwest Hammond is holding its first-ever Vision of Health Banquet! Come enjoy an inspiring evening dedicated to community\, advocacy\, and health. Tickets include access to our open bar\, a chance to win some wine\, a wonderful dinner\, and celebrating the achievements of individuals and organizations making a significant impact on local community health.
X-ALT-DESC;FMTTYPE=text/html:<span style="color:rgb(33\, 37\, 41)\; font-family:montserrat\,arial\,sans-serif\; font-size:19.008px">HealthVisions Midwest Hammond is holding its first-ever Vision of Health Banquet! Come enjoy an inspiring evening dedicated to community\, advocacy\, and health. Tickets include access to our open bar\, a chance to win some wine\, a wonderful dinner\, and celebrating the achievements of individuals and organizations making a significant impact on local community health.</span>
LOCATION:Hellenic Banquet Center 8000 Madison St Merrillville\, IN 46410
UID:e.897.6478
SEQUENCE:3
DTSTAMP:20260420T195803Z
URL:https://members.crossroadschamber.org/events/details/vision-of-health-banquet-6478
END:VEVENT

END:VCALENDAR
