BEGIN:VCALENDAR
VERSION:2.0
PRODID:-//ChamberMaster//Event Calendar 2.0//EN
METHOD:PUBLISH
X-PUBLISHED-TTL:P3D
REFRESH-INTERVAL:P3D
CALSCALE:GREGORIAN
BEGIN:VEVENT
DTSTART:20230504T170000Z
DTEND:20230504T190000Z
X-MICROSOFT-CDO-ALLDAYEVENT:FALSE
SUMMARY:Vita Luxury Apartments on Grant Ribbon Cutting
DESCRIPTION:Vita Luxury Apartments on Grant Ribbon Cutting
X-ALT-DESC;FMTTYPE=text/html:<p><b><span style="font-size:10.5pt\;font-family:&quot\;Times New Roman&quot\;\,serif\;\ncolor:#3E3E3E">Vita Luxury Apartments on Grant Ribbon Cutting</span></b></p>\n
LOCATION:8400 Grant Circle Merrillville\, IN 46410
UID:e.897.5014
SEQUENCE:3
DTSTAMP:20260424T021510Z
URL:https://members.crossroadschamber.org/events/details/vita-luxury-apartments-on-grant-ribbon-cutting-5014
END:VEVENT

END:VCALENDAR
