BEGIN:VCALENDAR
VERSION:2.0
PRODID:-//ChamberMaster//Event Calendar 2.0//EN
METHOD:PUBLISH
X-PUBLISHED-TTL:P3D
REFRESH-INTERVAL:P3D
CALSCALE:GREGORIAN
BEGIN:VEVENT
DTSTART:20290627T130000Z
DTEND:20290627T140000Z
X-MICROSOFT-CDO-ALLDAYEVENT:FALSE
SUMMARY:Voice of Business Committee Meeting
DESCRIPTION:Voice of Business Committee Meeting
X-ALT-DESC;FMTTYPE=text/html:Voice of Business Committee Meeting
LOCATION:Crossroads Chamber 440 W 84th Dr Merrillville\, IN 46410
UID:e.897.5846
SEQUENCE:3
DTSTAMP:20260423T203456Z
URL:https://members.crossroadschamber.org/events/details/voice-of-business-committee-meeting-06-27-2029-5846
END:VEVENT

END:VCALENDAR
