BEGIN:VCALENDAR
VERSION:2.0
PRODID:-//ChamberMaster//Event Calendar 2.0//EN
METHOD:PUBLISH
X-PUBLISHED-TTL:P3D
REFRESH-INTERVAL:P3D
CALSCALE:GREGORIAN
BEGIN:VEVENT
DTSTART:20260120T173000Z
DTEND:20260120T190000Z
X-MICROSOFT-CDO-ALLDAYEVENT:FALSE
SUMMARY:Voices of NWI Speaker Series Program
DESCRIPTION:Future-Proofing Your Business\n\n\n\nPanel Discussion with \n\nHeather Becerra- Chief Marketing Officer at Southshore CVA \n\nJoe Skibbie- Director at JRS Mar/Com\n\nNicole Schmied- Smart Cookie Media\n\nModerated by Wade Breitzke- We Create
X-ALT-DESC;FMTTYPE=text/html:<span style="font-family:times new roman\,serif\;"><span style="font-size:14.0pt\;"><span style="font-size:22px\;"><strong><span style="font-size:26px\;">Future-Proofing Your Business</span><br />\n<br />\nPanel Discussion with&nbsp\;</strong></span></span></span><br />\n<span style="font-size:20px\;"><span style="font-family:times new roman\,serif\;">Heather Becerra- Chief Marketing Officer at Southshore CVA </span><br />\n<span style="font-family:times new roman\,serif\;">Joe Skibbie- Director at JRS Mar/Com</span><br />\n<span style="font-family: &quot\;times new roman&quot\;\, serif\;">Nicole Schmied- Smart Cookie Media</span></span><br />\n<span style="font-family:times new roman\,serif\;"><span style="font-size:14.0pt\;"><span style="font-size:20px\;">Moderated by Wade Breitzke- We Create</span> </span></span><br />\n&nbsp\;
LOCATION:Hard Rock Northern Indiana 5400 W. 29th Ave Gary\, IN 46406
UID:e.897.7298
SEQUENCE:3
DTSTAMP:20260419T182227Z
URL:https://members.crossroadschamber.org/events/details/voices-of-nwi-speaker-series-program-7298
END:VEVENT

END:VCALENDAR
