BEGIN:VCALENDAR
VERSION:2.0
PRODID:-//ChamberMaster//Event Calendar 2.0//EN
METHOD:PUBLISH
X-PUBLISHED-TTL:P3D
REFRESH-INTERVAL:P3D
CALSCALE:GREGORIAN
BEGIN:VEVENT
DTSTART:20260421T163000Z
DTEND:20260421T180000Z
X-MICROSOFT-CDO-ALLDAYEVENT:FALSE
SUMMARY:Voices of NWI Speaker Series Program
DESCRIPTION:Join us for Voices of NWI\, featuring Bill Trowbridge with Regional Care Group as moderator and a panel of professionals sharing their expertise on mental health in the workplace. This engaging discussion will bring important conversations to the forefront of today's business community.\n\nCome learn\, connect\, and network with fellow Northwest Indiana business leaders at this impactful Chamber program.\n\n\n\nPanelist Speakers: \n\nDr. Robert Beedle- Psychologist Regional Health Systems \n\nDayna Davis- Program Director\, New Beginnings Clubhouse\n\nTraci Kerzich\, Clinical Director of Resilience\n\nRosecrance Behavioral Health\n\nValerie Perez- Psychology- Supervisor with Regional Health Systems
X-ALT-DESC;FMTTYPE=text/html:<p data-end="348" data-start="104"><span style="font-family:tahoma\;"><span style="font-size:22px\;">Join us for <em data-end="131" data-start="116">Voices of NWI</em>\, featuring Bill Trowbridge with Regional Care Group&nbsp\;as moderator and a panel of professionals sharing their expertise on mental health in the workplace. This engaging discussion will bring important conversations to the forefront of today&rsquo\;s business community.</span></span></p>\n\n<p data-end="464" data-is-last-node="" data-is-only-node="" data-start="350"><span style="font-family:tahoma\;"><span style="font-size:22px\;">Come learn\, connect\, and network with fellow Northwest Indiana business leaders at this impactful Chamber program.<br />\n<br />\nPanelist Speakers:&nbsp\;<br />\nDr. Robert Beedle- Psychologist Regional Health Systems&nbsp\;<br />\nDayna Davis- Program Director\, New Beginnings Clubhouse<br />\nTraci Kerzich\, Clinical Director of Resilience<br />\nRosecrance Behavioral Health<br />\nValerie Perez- Psychology- Supervisor&nbsp\;with Regional Health Systems&nbsp\;</span></span><br />\n&nbsp\;</p>\n
LOCATION:Hard Rock Northern Indiana 5400 W. 29th Ave Gary\, IN 46406
UID:e.897.7299
SEQUENCE:3
DTSTAMP:20260419T144639Z
URL:https://members.crossroadschamber.org/events/details/voices-of-nwi-speaker-series-program-7299
END:VEVENT

END:VCALENDAR
